{"text_format":"1","workbook":"xlsx","n_sheets":6,"sheets":["CSV","Mini-Kayak","Mini-Kayak Basic Calcs","Hearts Desire II","Hearts Desire II Basic Calcs","Plywood"],"not_rendered":{"charts":0,"images":0,"macros":1,"external_links":3,"defined_names":5,"comments":0,"pivot_tables":0},"unopened":[],"bounds":{"document_bytes":16777216,"sheet_cells":100000,"rows_first":2000,"rows_last":500,"rows_between":2000,"halvings":0,"cell_chars":16384,"cell_head_chars":4096},"cells_cut":0,"cells_raw":0,"read":"whole","date_system":"1900"}

{"sheet":"CSV","index":0,"n_rows":26,"n_cols":7,"rows_kept":26,"cut":false,"hidden":false,"merged":[]}
["Stations",7,"Chines",4]
["Station","Chine","X","Y","Z","Break","Colour"]
[1,1,20,0.2362305417879273,146.94655749012799,true,1]
[1,2,20,0.2362305417879273,146.94655749012799,true,2]
[1,3,20,0.2362305417879273,146.94655749012799,true,3]
[1,4,20,0.2362305417879273,146.94655749012799,true,4]
[2,1,135,0.2362305417879273,0,true,1]
[2,2,135,0.2362305417879273,0,true,2]
[3,1,604,0.2362305417879273,-48.362158161307953,false,1]
[3,2,604,132.06589344049479,-24.181079080653976,false,2]
[3,3,604,157.17701402425084,106.02473135363667,false,3]
[3,4,604,0,144.15643298082179,false,4]
[4,1,1200,0,-69.753112732655694,false,1]
[4,2,1200,184.14821761421103,-45.572033652001714,false,2]
[4,3,1200,208.32929669486504,92.074108807105517,false,3]
[4,4,1200,0,142.29634997461764,false,4]
[5,1,1777,0,-51.152282670614177,false,1]
[5,2,1777,132.06589344049479,-26.971203589960204,false,2]
[5,3,1777,157.17701402425084,92.074108807105517,false,3]
[5,4,1777,0,112.53502187535119,false,4]
[6,1,2332,0,0,true,1]
[6,2,2332,0,0,true,2]
[7,1,2364,0,92.074108807105517,true,0]
[7,2,2364,0,92.074108807105517,true,0]
[7,3,2364,0,92.074108807105517,true,0]
[7,4,2364,0,92.074108807105517,true,0]

{"sheet":"Mini-Kayak","index":1,"n_rows":20,"n_cols":36,"rows_kept":20,"cut":false,"hidden":false,"merged":[[14,16,14,20],[14,21,14,25],[14,26,14,30],[14,31,14,35],[10,12,10,15],[10,18,10,20],[11,12,11,15],[11,18,11,20],[14,1,14,5],[14,6,14,10],[14,11,14,15],[12,0,12,10],[11,0,11,10],[10,0,10,10],[7,12,7,15],[7,18,7,20],[8,12,8,15],[8,18,8,20],[9,12,9,15],[9,18,9,20],[3,3,5,5],[4,12,4,15],[4,18,4,20],[5,12,5,15],[5,18,5,20],[6,12,6,15],[6,18,6,20],[0,0,0,1],[1,12,1,20],[2,12,2,15],[2,18,2,20],[3,12,3,15],[3,18,3,20]]}
["Mini-Kayak"]
["Find Offet Table at row",17,null,null,null,null,null,null,null,null,null,null,"Mini-Kayak Basic Design Statistics"]
["Stations",7,null,null,null,null,null,null,null,null,null,null,"Length Overall (LOA)",null,null,null,{"$f":"(AF17-B17)/1000","v":2.3439999999999999},"m"]
["Chines",4,null,null,null,null,null,null,null,null,null,null,"Beam Overall (BOA)",null,null,null,{"$f":"R18/500","v":0.41665859338973005},"m"]
[null,null,null,null,null,null,null,null,null,null,null,null,"Length Water Line (LWL)",null,null,null,{"$f":"(AA19-G19)/1000","v":2.1970000000000001},"m"]
[null,null,null,null,null,null,null,null,null,null,null,null,"Beam Water Line (BWL)",null,null,null,{"$f":"M19/500","v":0.26413178688098959},"m","Actually the bottom width"]
[null,null,null,null,null,null,null,null,null,null,null,null,"Depth Water Line (DWL)",null,null,null,{"$f":"-S20/1000","v":6.9753112732655692E-2},"m"]
[null,null,null,null,null,null,null,null,null,null,null,null,"Rocker",null,null,null,{"$f":"(I20-S20)/1000","v":6.9753112732655692E-2},"m"]
[null,null,null,null,null,null,null,null,null,null,null,null,"Amidships Deadrise",null,null,null,{"$f":"DEGREES(ATAN2(R19-R20,S19-S20))","v":7.4808861795236794},"Degrees"]
[null,null,null,null,null,null,null,null,null,null,null,null,"Amidships Freeboard",null,null,null,{"$f":"S17/1000","v":0.14229634997461765},"m"]
["This design is based on work by:",null,null,null,null,null,null,null,null,null,null,null,"Forward Freeboard",null,null,null,{"$f":"I17/1000","v":0},"m"]
["Bruce C. Anderson",null,null,null,null,null,null,null,null,null,null,null,"Rear Freeboard",null,null,null,{"$f":"X17/1000","v":0.11253502187535119},"m"]
["http://buckwheat-anderson.com/bcanderson/Boatz/OSKayak/OSKbuild.html"]
[]
["Station",1,null,null,null,null,2,null,null,null,null,3,null,null,null,null,4,null,null,null,null,5,null,null,null,null,6,null,null,null,null,7]
["Chine","X","Y","Z","Break","Colour","X","Y","Z","Break","Colour","X","Y","Z","Break","Colour","X","Y","Z","Break","Colour","X","Y","Z","Break","Colour","X","Y","Z","Break","Colour","X","Y","Z","Break","Colour"]
["Deck",20,0.2362305417879273,146.94655749012799,true,3.7914691943127963,null,null,null,null,null,604,0,144.15643298082179,false,3.7914691943127963,1200,0,142.29634997461764,false,3.7914691943127963,1777,0,112.53502187535119,false,3.7914691943127963,null,null,null,null,null,2364,0,92.074108807105517,true,0]
["Sheer",20,0.2362305417879273,146.94655749012799,true,2.8436018957345972,null,null,null,null,null,604,157.17701402425084,106.02473135363667,false,2.8436018957345972,1200,208.32929669486504,92.074108807105517,false,2.8436018957345972,1777,157.17701402425084,92.074108807105517,false,2.8436018957345972,null,null,null,null,null,2364,0,92.074108807105517,true,0]
["Chine",20,0.2362305417879273,146.94655749012799,true,1.8957345971563981,135,0.2362305417879273,0,true,1.8957345971563981,604,132.06589344049479,-24.181079080653976,false,1.8957345971563981,1200,184.14821761421103,-45.572033652001714,false,1.8957345971563981,1777,132.06589344049479,-26.971203589960204,false,1.8957345971563981,2332,0,0,true,1.8957345971563981,2364,0,92.074108807105517,true,0]
["Centreline",20,0.2362305417879273,146.94655749012799,true,0.94786729857819907,135,0.2362305417879273,0,true,0.94786729857819907,604,0.2362305417879273,-48.362158161307953,false,0.94786729857819907,1200,0,-69.753112732655694,false,0.94786729857819907,1777,0,-51.152282670614177,false,0.94786729857819907,2332,0,0,true,0.94786729857819907,2364,0,92.074108807105517,true,0]

{"sheet":"Mini-Kayak Basic Calcs","index":2,"n_rows":74,"n_cols":5,"rows_kept":74,"cut":false,"hidden":false,"merged":[[66,1,66,4],[1,1,1,4],[13,1,13,4],[24,1,24,4],[37,1,37,4],[57,1,57,4],[59,1,59,4]]}
[]
[null,"Mini-Kayak Basic Metrics"]
[null,"Length Overall (LOA)",{"$f":"'Mini-Kayak'!Q3","v":2.3439999999999999},"m"]
[null,"Beam Overall (BOA)",{"$f":"'Mini-Kayak'!Q4","v":0.41665859338973005},"m"]
[null,"Length Water Line (LWL)",{"$f":"'Mini-Kayak'!Q5","v":2.1970000000000001},"m"]
[null,"Beam Water Line (BWL)",{"$f":"'Mini-Kayak'!Q6","v":0.26413178688098959},"m","Actually the bottom width"]
[null,"Depth Water Line (DWL)",{"$f":"'Mini-Kayak'!Q7","v":6.9753112732655692E-2},"m"]
[null,"Rocker",{"$f":"'Mini-Kayak'!Q8","v":6.9753112732655692E-2},"m"]
[null,"Amidships Deadrise",{"$f":"'Mini-Kayak'!Q9","v":7.4808861795236794},"Degrees"]
[null,"Amidships Freeboard",{"$f":"'Mini-Kayak'!Q10","v":0.14229634997461765},"m"]
[null,"Forward Freeboard",{"$f":"'Mini-Kayak'!Q11","v":0},"m"]
[null,"Rear Freeboard",{"$f":"'Mini-Kayak'!Q12","v":0.11253502187535119},"m"]
[]
[null,"Basic Calculations (approximate)"]
[null,"Mid-Section Area",{"$f":"C6*C7","v":1.8424014306587456E-2},"m^2"]
[null,"Plan Water Line Area",{"$f":"C6*C5*2/3","v":0.38686502385168947},"m^2"]
[null,"Displacement Volume",{"$f":"C5*C6*(C7-C8/3)*2/3","v":1.7990026414032283E-2},"m^3"]
[null,"Displacement Weight",{"$f":"C17*1025","v":18.439777074383091},"kg"]
[null,"Prismatic Coefficient (cp)",{"$f":"C17/(C5*C6*C7)","v":0.44444444444444442}]
[null,"Displacement Length Ratio (DLR)",{"$f":"C18/(C3/3.048)^3","v":40.54410634720746}]
[null,"Hull Speed",{"$f":"1.34*(C5*3.28)^0.5","v":3.597135095600386},"kt"]
[null,"Design G Force",3.5,"g"]
[null,"Design Pressure",{"$f":"C22*C18*9.81/1000/C16","v":1.6365649692117508},"kPa"]
[]
[null,"Bottom Plank Design"]
[null,"Design Pressure (P)",{"$f":"C23","v":1.6365649692117508},"kPa"]
[null,"Span (L)",{"$f":"C6*1000","v":264.13178688098958},"mm","BWL"]
[null,"Allowable Stress (S)",14000,"kPa","F14 Plywood"]
[null,"Plank Thickness (t)",{"$f":"(C26*C27*C27/C28/2)^0.5","v":2.0193345650087982},"mm","t^2=P*L^2/2/S, ~fixed sides"]
[null,"Design Plank Thickness (t)",4,"mm"]
[null,"Modulus of Elasticity (E)",{"$f":"10500000*80%","v":8400000},"kPa","Factored 80% for wet condition"]
[null,"Moment of Inertia (I)",{"$f":"1000*C30^3/12","v":5333.333333333333},"mm^4"]
[null,"Deflection (d)",{"$f":"C26*C27^4/384/C31/C32*1000","v":0.46302739859546183},"mm","d=P*L^4/384EI (2% max)"]
[null,"Deflection Ratio",{"$f":"C27/C33","v":570.445264539856}]
[null,"Maximum Concentrated Load",{"$f":"C28*C30*C30/1000000","v":0.224},"kN","=S*t*t"]
[]
[]
[null,"Hull Centre Reinforcement"]
[null,"T-Section Modulus"]
[null,"Maximum Rib Spacing (Flange Width)",{"$f":"36*C42+C43","v":224},"mm","Fw<36t+w"]
[null,"Design Rib Spacing",200,"mm"]
[null,"Plank Thickness  (Flange Thickness) ",{"$f":"C30","v":4},"mm"]
[null,"Rib Width (Web Thickness)",80,"mm"]
[null,"Rib Thickness (Web Height)",4,"mm"]
[null,"A",{"$f":"C40*C42+C44*C43","v":1216},"mm^2"]
[null,"cy",{"$f":"(C40*C42*C42/2+C44*C43*(C42+C44/2))/(C40*C42+C44*C43)","v":3.0526315789473686},"mm","From top of T"]
[null,"cx",{"$f":"(C40*C42*0/2+C44*C43*0/2)/(C40*C42+C44*C43)","v":0},"mm","From centre line of T"]
[null,"Ixx",{"$f":"C41*C42^3/12+C41*C42*(C46-C42/2)^2+C43*C44^3/12+C43*C44*(C46-C42-C44/2)^2","v":5159.5937211449673},"mm^4"]
[null,"Iyy",{"$f":"C40*C40*C40*C42/12+C43*C43*C43*C44/12","v":3917141.333333333},"mm^4"]
[null,"Design Point Load",1,"kN","~100kg"]
[null,"Span",{"$f":"C27","v":264.13178688098958},"mm"]
[null,"Allowable Stress",{"$f":"C28","v":14000},"kPa","F14 Plywood"]
[null,"Bending Moment",{"$f":"C50*C51/8","v":33.016473360123697},"Nm"]
[null,"Section Modulus",{"$f":"C48/C46","v":1690.2117362371444},"mm^3"]
[null,"Working Stress (per rib)",{"$f":"C53/C54*1000000","v":19533.927408187952},"kN"]
[null,"Distribute Load (over two ribs)",{"$f":"C55/2","v":9766.963704093976},"kN"]
[null,"Safety Factor",{"$f":"C52/C56","v":1.43340350431851}]
[null,"Note: May be easier to either double plank thickness or reinforce with one layers of 4 oz/sq_yd fibre-glass on both sides"]
[]
[null,"Side Plank Design"]
[null,"Design Pressure (P)",{"$f":"C23","v":1.6365649692117508},"kPa"]
[null,"Span (L)",{"$f":"(C10+C7)*1000","v":212.04946270727334},"mm"]
[null,"Allowable Stress (S)",{"$f":"C28","v":14000},"kPa","F14 Plywood"]
[null,"Plank Thickness (t)",{"$f":"(C61*C62*C62/C63/2)^0.5","v":1.621155918387345},"mm","t^2=P*L^2/2/S, ~fixed sides"]
[null,"Design Plank Thickness (t)",{"$f":"C44","v":4},"mm","Okay"]
[]
[null,"Plywood Fibre Glass Joins"]
[null,"Spw",{"$f":"C28","v":14000},"Pa"]
[null,"h",{"$f":"C30","v":4},"mm"]
[null,"M",{"$f":"C68*C69^2/6","v":37333.333333333336},"Nm","M=Spw*b*h^2/6"]
[null,"Sfg",120000000,"Pa"]
[null,"t",{"$f":"1000*((C70*6*C69/C71+C69*C69*C69)^(1/3)-C69)/2","v":7.7774753282522369E-2},"mm","t~((6*M*h/Sfg/b+h^3)^(1/3)-h)/2"]
[null,"F/G Weight",{"$f":"C72*16","v":1.2443960525203579},"oz/sq_yd","Each side of plywood"]
[null,"F/G Overlap (each side of join)",{"$f":"C69*3","v":12},"mm","=3*h [JS = 15%*(1+L/h)]"]

{"sheet":"Hearts Desire II","index":3,"n_rows":34,"n_cols":121,"rows_kept":34,"cut":false,"hidden":true,"merged":[[13,0,13,20],[14,0,14,20],[15,0,15,20],[16,0,16,20],[0,0,0,1],[1,3,3,5],[4,7,4,10],[5,7,5,10],[2,7,2,10],[3,7,3,10],[18,1,18,5],[18,6,18,10],[18,66,18,70],[18,71,18,75],[18,26,18,30],[18,31,18,35],[18,36,18,40],[18,41,18,45],[18,46,18,50],[18,51,18,55],[18,56,18,60],[18,61,18,65],[18,11,18,15],[18,16,18,20],[18,21,18,25],[8,7,8,10],[1,7,1,12],[18,106,18,110],[18,116,18,120],[18,76,18,80],[18,81,18,85],[18,86,18,90],[18,91,18,95],[18,101,18,105],[18,111,18,115],[18,96,18,100],[9,7,9,10],[10,7,10,10],[7,7,7,10],[6,7,6,10],[12,0,12,20]]}
["Heart's Desire II"]
["Find Offet Table at row",21,null,null,null,null,null,"Basic Metrics"]
["Stations",24,null,null,null,null,null,"Length Overall (LOA)",null,null,null,{"$f":"(DM27-B27)/1000","v":6.9931696523062756},"m"]
["Chines",12,null,null,null,null,null,"Beam Overall (BOA)",null,null,null,{"$f":"BK28/500","v":2.2736983634749994},"m"]
[null,null,null,null,null,null,null,"Length Water Line (LWL)",null,null,null,{"$f":"(DC30-DE30*(DC30-CX30)/(DE30-CZ30)-Q30-S30*(Q30-L30)/(S30-N30))/1000","v":6.1784257298351486},"m"]
["Cabin Slope Pivot X",544.48800000000006,"mm",null,null,null,null,"Beam Water Line (BWL)",null,null,null,{"$f":"TREND(BK28:BK29,BL28:BL29,0)/500","v":2.0296765485193147},"m"]
["Cabin Slope Pivot Y",{"$f":" 0.0000182672053*B6^2 - 0.165450041*B6 + 1022.13715+$B$9","v":987.46721495692896},"mm",null,null,null,null,"Max Chine Length (CL)",null,null,null,{"$f":"B34/1000","v":0.89724460774074244},"m"]
["Cabin Slope",3,"degrees",null,null,null,null,"Depth Water Line (DWL)",null,null,null,{"$f":"-CP32/1000","v":0.71633227290870005},"m"]
["Deck Lift",50,"mm",null,null,null,null,"Amidships Freeboard",null,null,null,{"$f":"BL28/1000","v":0.66683527142499999},"m"]
["Cabin Lift",100,"mm",null,null,null,null,"Forward Freeboard",null,null,null,{"$f":"D27/1000","v":1.02213715},"m"]
["Cockpit Depth",280,"mm",null,null,null,null,"Rear Freeboard",null,null,null,{"$f":"DO27/1000","v":0.75846405714748333},"m"]
[]
["This design is an interpretation of William Atkin boat \"Heart's Desire II\", please have a look at the link below:"]
["http://www.atkinboatplans.com/Sail/HeartsDesireII.html"]
["The author has purchased the plans and this work is his adaption of the design to \"stitch and glue\" plywood construction."]
["It you like the design then a lot a good karma can be purchased by buying the plans from Pat Atkin (APatkin@aol.com) for US$100 including postage."]
["Note: The current design has development faults (i.e. excessive curvature)."]
[]
["Station",1,null,null,null,null,2,null,null,null,null,3,null,null,null,null,4,null,null,null,null,5,null,null,null,null,6,null,null,null,null,7,null,null,null,null,8,null,null,null,null,9,null,null,null,null,10,null,null,null,null,11,null,null,null,null,12,null,null,null,null,13,null,null,null,null,14,null,null,null,null,15,null,null,null,null,16,null,null,null,null,17,null,null,null,null,18,null,null,null,null,19,null,null,null,null,20,null,null,null,null,21,null,null,null,null,22,null,null,null,null,23,null,null,null,null,24]
["Chine","X","Y","Z","BREAK","COLOUR","X","Y","Z","BREAK","COLOUR","X","Y","Z","BREAK","COLOUR","X","Y","Z","BREAK","COLOUR","X","Y","Z","BREAK","COLOUR","X","Y","Z","BREAK","COLOUR","X","Y","Z","BREAK","COLOUR","X","Y","Z","BREAK","COLOUR","X","Y","Z","BREAK","COLOUR","X","Y","Z","BREAK","COLOUR","X","Y","Z","BREAK","COLOUR","X","Y","Z","BREAK","COLOUR","X","Y","Z","BREAK","COLOUR","X","Y","Z","BREAK","COLOUR","X","Y","Z","BREAK","COLOUR","X","Y","Z","BREAK","COLOUR","X","Y","Z","BREAK","COLOUR","X","Y","Z","BREAK","COLOUR","X","Y","Z","BREAK","COLOUR","X","Y","Z","BREAK","COLOUR","X","Y","Z","BREAK","COLOUR","X","Y","Z","BREAK","COLOUR","X","Y","Z","BREAK","COLOUR","X","Y","Z","BREAK","COLOUR"]
["Top Centre Line",0,{"$f":" -0.0000000000067919258*B21^4 + 0.0000000945983196*B21^3 - 0.000504025587*B21^2 + 1.22127801*B21","v":0},{"$f":" 0.0000182672053*B21^2 - 0.165450041*B21 + 1022.13715","v":1022.13715},true,0,null,null,null,null,null,null,null,null,null,null,null,null,null,null,null,null,null,null,null,null,2625,0,{"$f":"$B$7+TAN(RADIANS($B$8))*(AA21-$B$6)+$B$10","v":1196.5022286486476},true,1,null,null,null,null,null,null,null,null,null,null,null,null,null,null,null,null,null,null,null,null,null,null,null,null,null,3000,0,{"$f":"$B$7+TAN(RADIANS($B$8))*(BE21-$B$6)+$B$10","v":1216.1551458797881},false,1,3500,0,{"$f":"$B$7+TAN(RADIANS($B$8))*(BJ21-$B$6)+$B$10","v":1242.3590355213087},false,1,4000,0,{"$f":"$B$7+TAN(RADIANS($B$8))*(BO21-$B$6)+$B$10","v":1268.5629251628293},false,1,null,null,null,null,null,null,null,null,null,null,4552,0,{"$f":"$B$7+TAN(RADIANS($B$8))*(CD21-$B$6)+$B$10","v":1297.492019327068},true,0,4800,0,{"$f":" 0.0000182672053*CI21^2 - 0.165450041*CI21 + 1022.13715+$B$9-$B$11","v":418.85336331200006},true,1,null,null,null,null,null,5500,0,{"$f":" 0.0000182672053*CS21^2 - 0.165450041*CS21 + 1022.13715+$B$9-$B$11","v":434.74488482499999},false,1,null,null,null,null,null,5950,0,{"$f":" 0.0000182672053*DC21^2 - 0.165450041*DC21 + 1022.13715+$B$9-$B$11","v":454.41414168325002},true,0,null,null,null,null,null,6993.1696523062756,{"$f":" -0.0000000000067919258*DM21^4 + 0.0000000945983196*DM21^3 - 0.000504025587*DM21^2 + 1.22127801*DM21","v":4.4159787648823112E-7},{"$f":" 0.0000182672053*DM21^2 - 0.165450041*DM21 + 1022.13715","v":758.46405714748335},true,0]
["Coach House Top",0,0,1022.13715,true,0,null,null,null,null,null,null,null,null,null,null,null,null,null,null,null,null,null,null,null,null,2625,0,{"$f":"$B$7+TAN(RADIANS($B$8))*(AA22-$B$6)+$B$10","v":1196.5022286486476},true,2,2626,{"$f":" -0.0000000000067919258*AF22^4 + 0.0000000945983196*AF22^3 - 0.000504025587*AF22^2 + 1.22127801*AF22-400-200","v":521.44126720548138},{"$f":"$B$7+TAN(RADIANS($B$8))*(AF22-$B$6)+$B$10","v":1196.5546364279305},true,2,null,null,null,null,null,null,null,null,null,null,null,null,null,null,null,2825,{"$f":" -0.0000000000067919258*AZ22^4 + 0.0000000945983196*AZ22^3 - 0.000504025587*AZ22^2 + 1.22127801*AZ22-400-200","v":527.83511723149786},{"$f":"$B$7+TAN(RADIANS($B$8))*(AZ22-$B$6)+$B$10","v":1206.9837845052557},true,2,3000,{"$f":" -0.0000000000067919258*BE22^4 + 0.0000000945983196*BE22^3 - 0.000504025587*BE22^2 + 1.22127801*BE22-400-200","v":531.6123864000001},{"$f":"$B$7+TAN(RADIANS($B$8))*(BE22-$B$6)+$B$10","v":1216.1551458797881},false,2,3500,{"$f":" -0.0000000000067919258*BJ22^4 + 0.0000000945983196*BJ22^3 - 0.000504025587*BJ22^2 + 1.22127801*BJ22-400-200","v":536.84918173749975},{"$f":"$B$7+TAN(RADIANS($B$8))*(BJ22-$B$6)+$B$10","v":1242.3590355213087},false,2,4000,{"$f":" -0.0000000000067919258*BO22^4 + 0.0000000945983196*BO22^3 - 0.000504025587*BO22^2 + 1.22127801*BO22-400-200","v":536.26209759999983},{"$f":"$B$7+TAN(RADIANS($B$8))*(BO22-$B$6)+$B$10","v":1268.5629251628293},false,2,4550,{"$f":" -0.0000000000067919258*BT22^4 + 0.0000000945983196*BT22^3 - 0.000504025587*BT22^2 + 1.22127801*BT22-400-200","v":522.06872523211496},{"$f":"$B$7+TAN(RADIANS($B$8))*(BT22-$B$6)+$B$10","v":1297.3872037685019},true,2,4551,{"$f":" -0.0000000000067919258*BY22^4 + 0.0000000945983196*BY22^3 - 0.000504025587*BY22^2 + 1.22127801*BY22-400-200","v":522.01947992984606},{"$f":"$B$7+TAN(RADIANS($B$8))*(BY22-$B$6)+$B$10","v":1297.439611547785},true,2,4552,{"$f":"CE21","v":0},{"$f":"$B$7+TAN(RADIANS($B$8))*(CD22-$B$6)+$B$10","v":1297.492019327068},true,0,4800,0,{"$f":" 0.0000182672053*CI22^2 - 0.165450041*CI22 + 1022.13715+$B$9-$B$11","v":418.85336331200006},true,2,4801,310,{"$f":" 0.0000182672053*CN22^2 - 0.165450041*CN22 + 1022.13715+$B$9-$B$11","v":418.86329670908526},true,2,5500,{"$f":"(CY22-CO22)/(CX22-CN22)*(CS22-CN22)+CO22","v":221.71167247386762},{"$f":" 0.0000182672053*CS22^2 - 0.165450041*CS22 + 1022.13715+$B$9-$B$11","v":434.74488482499999},false,2,5949,165,{"$f":" 0.0000182672053*CX22^2 - 0.165450041*CX22 + 1022.13715+$B$9-$B$11","v":454.36223024838534},true,2,5950,0,{"$f":" 0.0000182672053*DC22^2 - 0.165450041*DC22 + 1022.13715+$B$9-$B$11","v":454.41414168325002},true,0,null,null,null,null,null,6993.1696523062756,4.4159787648823112E-7,758.46405714748335,true,0]
["Coach House Top Edge",0,{"$f":" -0.0000000000067919258*B23^4 + 0.0000000945983196*B23^3 - 0.000504025587*B23^2 + 1.22127801*B23","v":0},{"$f":" 0.0000182672053*B23^2 - 0.165450041*B23 + 1022.13715","v":1022.13715},true,0,null,null,null,null,null,null,null,null,null,null,null,null,null,null,null,null,null,null,null,null,null,null,null,null,null,2626,{"$f":" -0.0000000000067919258*AF23^4 + 0.0000000945983196*AF23^3 - 0.000504025587*AF23^2 + 1.22127801*AF23-400-200","v":521.44126720548138},{"$f":"$B$7+TAN(RADIANS($B$8))*(AF23-$B$6)+$B$10","v":1196.5546364279305},true,4,2652,{"$f":" -0.0000000000067919258*AK23^4 + 0.0000000945983196*AK23^3 - 0.000504025587*AK23^2 + 1.22127801*AK23-400-100","v":622.43350698979702},{"$f":"$B$7+TAN(RADIANS($B$8))*(AK23-$B$6)+$B$10*0.5","v":1147.9172386892897},true,4,2725,{"$f":" -0.0000000000067919258*AP23^4 + 0.0000000945983196*AP23^3 - 0.000504025587*AP23^2 + 1.22127801*AP23-400-27","v":697.95216128089123},{"$f":"$B$7+TAN(RADIANS($B$8))*(AP23-$B$6)+$B$10*0.134","v":1115.1430065769518},true,4,null,null,null,null,null,2825,{"$f":" -0.0000000000067919258*AZ23^4 + 0.0000000945983196*AZ23^3 - 0.000504025587*AZ23^2 + 1.22127801*AZ23-400.5","v":727.33511723149786},{"$f":"$B$7+TAN(RADIANS($B$8))*(AZ23-$B$6)","v":1106.9837845052557},true,4,3000,{"$f":" -0.0000000000067919258*BE23^4 + 0.0000000945983196*BE23^3 - 0.000504025587*BE23^2 + 1.22127801*BE23-400.5","v":731.1123864000001},{"$f":"$B$7+TAN(RADIANS($B$8))*(BE23-$B$6)","v":1116.1551458797881},false,4,3500,{"$f":" -0.0000000000067919258*BJ23^4 + 0.0000000945983196*BJ23^3 - 0.000504025587*BJ23^2 + 1.22127801*BJ23-400.5","v":736.34918173749975},{"$f":"$B$7+TAN(RADIANS($B$8))*(BJ23-$B$6)","v":1142.3590355213087},false,4,4000,{"$f":" -0.0000000000067919258*BO23^4 + 0.0000000945983196*BO23^3 - 0.000504025587*BO23^2 + 1.22127801*BO23-400.5","v":735.76209759999983},{"$f":"$B$7+TAN(RADIANS($B$8))*(BO23-$B$6)","v":1168.5629251628293},false,4,4550,{"$f":" -0.0000000000067919258*BT23^4 + 0.0000000945983196*BT23^3 - 0.000504025587*BT23^2 + 1.22127801*BT23-400.5","v":721.56872523211496},{"$f":"$B$7+TAN(RADIANS($B$8))*(BT23-$B$6)","v":1197.3872037685019},true,4,4551,{"$f":" -0.0000000000067919258*BY23^4 + 0.0000000945983196*BY23^3 - 0.000504025587*BY23^2 + 1.22127801*BY23-400.5-200","v":521.51947992984606},{"$f":"$B$7+TAN(RADIANS($B$8))*(BY23-$B$6)+$B$10","v":1297.439611547785},true,0,null,null,null,null,null,null,null,null,null,null,null,null,null,null,null,null,null,null,null,null,null,null,null,null,null,null,null,null,null,null,null,null,null,null,null,6993.1696523062756,4.4159787648823112E-7,758.46405714748335,true,0]
["BREAK",0,{"$f":" -0.0000000000067919258*B24^4 + 0.0000000945983196*B24^3 - 0.000504025587*B24^2 + 1.22127801*B24","v":0},{"$f":" 0.0000182672053*B24^2 - 0.165450041*B24 + 1022.13715","v":1022.13715},true,0,null,null,null,null,null,null,null,null,null,null,null,null,null,null,null,null,null,null,null,null,null,null,null,null,null,null,null,null,null,null,null,null,null,null,null,null,null,null,null,null,null,null,null,null,null,null,null,null,null,null,null,null,null,null,null,null,null,null,null,null,null,null,null,null,null,null,null,null,null,null,null,null,null,null,null,null,null,null,null,null,null,null,null,null,null,null,null,null,null,null,null,null,null,null,null,null,null,null,null,null,null,null,null,null,null,null,null,null,null,null,6993.1696523062756,4.4159787648823112E-7,{"$f":" 0.0000182672053*DM24^2 - 0.165450041*DM24 + 1022.13715","v":758.46405714748335},true,0]
["Coach House Side",0,0,1022.13715,true,0,544.48800000000006,0,{"$f":" 0.0000182672053*G25^2 - 0.165450041*G25 + 1022.13715+$B$9","v":987.46721495692896},true,0,1000,0,{"$f":" 0.0000182672053*L25^2 - 0.165450041*L25 + 1022.13715+$B$9","v":924.95431430000008},false,0,1500,0,{"$f":" 0.0000182672053*Q25^2 - 0.165450041*Q25 + 1022.13715+$B$9","v":865.06330042500008},false,0,2000,0,{"$f":" 0.0000182672053*V25^2 - 0.165450041*V25 + 1022.13715+$B$9","v":814.30588920000002},false,0,2625,0,{"$f":" 0.0000182672053*AA25^2 - 0.165450041*AA25 + 1022.13715+$B$9","v":763.70325389531251},true,0,2626,{"$f":" -0.0000000000067919258*AF25^4 + 0.0000000945983196*AF25^3 - 0.000504025587*AF25^2 + 1.22127801*AF25-400-200","v":521.44126720548138},{"$f":" 0.0000182672053*AF25^2 - 0.165450041*AF25 + 1022.13715+$B$9","v":763.63372494934288},true,0,2652,{"$f":" -0.0000000000067919258*AK25^4 + 0.0000000945983196*AK25^3 - 0.000504025587*AK25^2 + 1.22127801*AK25-400-100","v":622.43350698979702},{"$f":" 0.0000182672053*AK25^2 - 0.165450041*AK25 + 1022.13715+$B$9","v":761.83879593225129},true,0,2725,{"$f":" -0.0000000000067919258*AP25^4 + 0.0000000945983196*AP25^3 - 0.000504025587*AP25^2 + 1.22127801*AP25-400-27","v":697.95216128089123},{"$f":" 0.0000182672053*AP25^2 - 0.165450041*AP25 + 1022.13715+$B$9","v":756.93120463081254},true,0,2824,{"$f":" -0.0000000000067919258*AU25^4 + 0.0000000945983196*AU25^3 - 0.000504025587*AU25^2 + 1.22127801*AU25-400.5","v":727.30919818447774},{"$f":" 0.0000182672053*AU25^2 - 0.165450041*AU25 + 1022.13715+$B$9","v":750.58675807057284},true,5,2825,{"$f":" -0.0000000000067919258*AZ25^4 + 0.0000000945983196*AZ25^3 - 0.000504025587*AZ25^2 + 1.22127801*AZ25-400.5","v":727.33511723149786},{"$f":"$B$7+TAN(RADIANS($B$8))*(AZ25-$B$6)","v":1106.9837845052557},true,5,3000,{"$f":" -0.0000000000067919258*BE25^4 + 0.0000000945983196*BE25^3 - 0.000504025587*BE25^2 + 1.22127801*BE25-400.5","v":731.1123864000001},{"$f":"$B$7+TAN(RADIANS($B$8))*(BE25-$B$6)","v":1116.1551458797881},false,5,3500,{"$f":" -0.0000000000067919258*BJ25^4 + 0.0000000945983196*BJ25^3 - 0.000504025587*BJ25^2 + 1.22127801*BJ25-400.5","v":736.34918173749975},{"$f":"$B$7+TAN(RADIANS($B$8))*(BJ25-$B$6)","v":1142.3590355213087},false,5,4000,{"$f":" -0.0000000000067919258*BO25^4 + 0.0000000945983196*BO25^3 - 0.000504025587*BO25^2 + 1.22127801*BO25-400.5","v":735.76209759999983},{"$f":"$B$7+TAN(RADIANS($B$8))*(BO25-$B$6)","v":1168.5629251628293},false,5,4550,{"$f":" -0.0000000000067919258*BT25^4 + 0.0000000945983196*BT25^3 - 0.000504025587*BT25^2 + 1.22127801*BT25-400.5","v":721.56872523211496},{"$f":"$B$7+TAN(RADIANS($B$8))*(BT25-$B$6)","v":1197.3872037685019},true,5,4551,{"$f":" -0.0000000000067919258*BY25^4 + 0.0000000945983196*BY25^3 - 0.000504025587*BY25^2 + 1.22127801*BY25-400.5","v":721.51947992984606},{"$f":" 0.0000182672053*BY25^2 - 0.165450041*BY25 + 1022.13715+$B$9","v":697.51708096768539},true,0,null,null,null,null,null,4800,310,{"$f":" 0.0000182672053*CI25^2 - 0.165450041*CI25 + 1022.13715+$B$9","v":698.85336331200006},false,5,4801,310,{"$f":" 0.0000182672053*CN25^2 - 0.165450041*CN25 + 1022.13715+$B$9-$B$11","v":418.86329670908526},false,5,5500,{"$f":"(CY25-CO25)/(CX25-CN25)*(CS25-CN25)+CO25","v":221.71167247386762},{"$f":" 0.0000182672053*CS25^2 - 0.165450041*CS25 + 1022.13715+$B$9-$B$11","v":434.74488482499999},false,5,5949,165,{"$f":" 0.0000182672053*CX25^2 - 0.165450041*CX25 + 1022.13715+$B$9-$B$11","v":454.36223024838534},false,5,5950,165,{"$f":" 0.0000182672053*DC25^2 - 0.165450041*DC25 + 1022.13715+$B$9","v":734.41414168325002},true,0,null,null,null,null,null,6993.1696523062756,{"$f":" -0.0000000000067919258*DM25^4 + 0.0000000945983196*DM25^3 - 0.000504025587*DM25^2 + 1.22127801*DM25","v":4.4159787648823112E-7},758.46405714748335,true,0]
["Coach House Bottom",0,{"$f":" -0.0000000000067919258*B26^4 + 0.0000000945983196*B26^3 - 0.000504025587*B26^2 + 1.22127801*B26","v":0},{"$f":" 0.0000182672053*B26^2 - 0.165450041*B26 + 1022.13715","v":1022.13715},true,6,544.48800000000006,0,{"$f":" 0.0000182672053*G26^2 - 0.165450041*G26 + 1022.13715+$B$9","v":987.46721495692896},true,6,1000,0,{"$f":" 0.0000182672053*L26^2 - 0.165450041*L26 + 1022.13715+$B$9","v":924.95431430000008},false,6,1500,0,{"$f":" 0.0000182672053*Q26^2 - 0.165450041*Q26 + 1022.13715+$B$9","v":865.06330042500008},false,6,2000,0,{"$f":" 0.0000182672053*V26^2 - 0.165450041*V26 + 1022.13715+$B$9","v":814.30588920000002},false,6,2625,0,{"$f":" 0.0000182672053*AA26^2 - 0.165450041*AA26 + 1022.13715+$B$9","v":763.70325389531251},true,6,2626,{"$f":" -0.0000000000067919258*AF26^4 + 0.0000000945983196*AF26^3 - 0.000504025587*AF26^2 + 1.22127801*AF26-400-200","v":521.44126720548138},{"$f":" 0.0000182672053*AF26^2 - 0.165450041*AF26 + 1022.13715+$B$9","v":763.63372494934288},true,6,2652,{"$f":" -0.0000000000067919258*AK26^4 + 0.0000000945983196*AK26^3 - 0.000504025587*AK26^2 + 1.22127801*AK26-400-100","v":622.43350698979702},{"$f":" 0.0000182672053*AK26^2 - 0.165450041*AK26 + 1022.13715+$B$9","v":761.83879593225129},true,6,2725,{"$f":" -0.0000000000067919258*AP26^4 + 0.0000000945983196*AP26^3 - 0.000504025587*AP26^2 + 1.22127801*AP26-400-27","v":697.95216128089123},{"$f":" 0.0000182672053*AP26^2 - 0.165450041*AP26 + 1022.13715+$B$9","v":756.93120463081254},true,6,2824,{"$f":" -0.0000000000067919258*AU26^4 + 0.0000000945983196*AU26^3 - 0.000504025587*AU26^2 + 1.22127801*AU26-400.5","v":727.30919818447774},{"$f":" 0.0000182672053*AU26^2 - 0.165450041*AU26 + 1022.13715+$B$9","v":750.58675807057284},true,6,2825,{"$f":" -0.0000000000067919258*AZ26^4 + 0.0000000945983196*AZ26^3 - 0.000504025587*AZ26^2 + 1.22127801*AZ26-400.5","v":727.33511723149786},{"$f":" 0.0000182672053*AZ26^2 - 0.165450041*AZ26 + 1022.13715+$B$9","v":750.52449947231253},true,6,3000,{"$f":" -0.0000000000067919258*BE26^4 + 0.0000000945983196*BE26^3 - 0.000504025587*BE26^2 + 1.22127801*BE26-400.5","v":731.1123864000001},{"$f":" 0.0000182672053*BE26^2 - 0.165450041*BE26 + 1022.13715+$B$9","v":740.19187469999997},false,6,3500,{"$f":" -0.0000000000067919258*BJ26^4 + 0.0000000945983196*BJ26^3 - 0.000504025587*BJ26^2 + 1.22127801*BJ26-400.5","v":736.34918173749975},{"$f":" 0.0000182672053*BJ26^2 - 0.165450041*BJ26 + 1022.13715+$B$9","v":716.83527142499997},false,6,4000,{"$f":" -0.0000000000067919258*BO26^4 + 0.0000000945983196*BO26^3 - 0.000504025587*BO26^2 + 1.22127801*BO26-400.5","v":735.76209759999983},{"$f":" 0.0000182672053*BO26^2 - 0.165450041*BO26 + 1022.13715+$B$9","v":702.61227080000003},false,6,4550,{"$f":" -0.0000000000067919258*BT26^4 + 0.0000000945983196*BT26^3 - 0.000504025587*BT26^2 + 1.22127801*BT26-400.5","v":721.56872523211496},{"$f":" 0.0000182672053*BT26^2 - 0.165450041*BT26 + 1022.13715+$B$9","v":697.51628117325004},true,6,4551,{"$f":" -0.0000000000067919258*BY26^4 + 0.0000000945983196*BY26^3 - 0.000504025587*BY26^2 + 1.22127801*BY26-400.5","v":721.51947992984606},{"$f":" 0.0000182672053*BY26^2 - 0.165450041*BY26 + 1022.13715+$B$9","v":697.51708096768539},true,6,4552,0,{"$f":" 0.0000182672053*CD26^2 - 0.165450041*CD26 + 1022.13715+$B$9","v":697.51791729653132},true,6,4799,0,{"$f":" 0.0000182672053*CI26^2 - 0.165450041*CI26 + 1022.13715+$B$9","v":698.84346644932521},false,6,4800,310,{"$f":" 0.0000182672053*CN26^2 - 0.165450041*CN26 + 1022.13715+$B$9","v":698.85336331200006},false,6,5500,{"$f":"(CY26-CO26)/(CX26-CN26)*(CS26-CN26)+CO26","v":221.73913043478262},{"$f":" 0.0000182672053*CS26^2 - 0.165450041*CS26 + 1022.13715+$B$9","v":714.74488482499999},false,6,5950,165,{"$f":" 0.0000182672053*CX26^2 - 0.165450041*CX26 + 1022.13715+$B$9","v":734.41414168325002},false,6,5951,0,{"$f":" 0.0000182672053*DC26^2 - 0.165450041*DC26 + 1022.13715+$B$9","v":734.4660896525254},true,6,6454.1670000000004,0,{"$f":" 0.0000182672053*DH26^2 - 0.165450041*DH26 + 1022.13715+$B$9","v":765.23862174598594},true,6,6993.1696523062756,4.4159787648823112E-7,{"$f":" 0.0000182672053*DM26^2 - 0.165450041*DM26 + 1022.13715","v":758.46405714748335},true,0]
["Deck",0,{"$f":" -0.0000000000067919258*B27^4 + 0.0000000945983196*B27^3 - 0.000504025587*B27^2 + 1.22127801*B27","v":0},{"$f":" 0.0000182672053*B27^2 - 0.165450041*B27 + 1022.13715","v":1022.13715},true,1,544.48800000000006,0,{"$f":" 0.0000182672053*G27^2 - 0.165450041*G27 + 1022.13715+$B$9","v":987.46721495692896},true,1,1000,{"$f":"H27+352.82","v":352.82},{"$f":" 0.0000182672053*L27^2 - 0.165450041*L27 + 1022.13715+$B$9","v":924.95431430000008},false,1,1500,{"$f":"M27+205.418","v":558.23800000000006},{"$f":" 0.0000182672053*Q27^2 - 0.165450041*Q27 + 1022.13715+$B$9","v":865.06330042500008},false,1,2000,{"$f":"R27+109.642","v":667.88000000000011},{"$f":" 0.0000182672053*V27^2 - 0.165450041*V27 + 1022.13715+$B$9","v":814.30588920000002},false,1,2625,{"$f":" -0.0000000000067919258*AA27^4 + 0.0000000945983196*AA27^3 - 0.000504025587*AA27^2 + 1.22127801*AA27-400","v":721.40204517749044},{"$f":" 0.0000182672053*AA27^2 - 0.165450041*AA27 + 1022.13715+$B$9","v":763.70325389531251},true,1,null,null,null,null,null,null,null,null,null,null,null,null,null,null,null,2824,{"$f":" -0.0000000000067919258*AU27^4 + 0.0000000945983196*AU27^3 - 0.000504025587*AU27^2 + 1.22127801*AU27-400","v":727.80919818447774},{"$f":" 0.0000182672053*AU27^2 - 0.165450041*AU27 + 1022.13715+$B$9","v":750.58675807057284},true,1,2825,{"$f":" -0.0000000000067919258*AZ27^4 + 0.0000000945983196*AZ27^3 - 0.000504025587*AZ27^2 + 1.22127801*AZ27-400","v":727.83511723149786},{"$f":" 0.0000182672053*AZ27^2 - 0.165450041*AZ27 + 1022.13715+$B$9","v":750.52449947231253},true,1,3000,{"$f":" -0.0000000000067919258*BE27^4 + 0.0000000945983196*BE27^3 - 0.000504025587*BE27^2 + 1.22127801*BE27-400","v":731.6123864000001},{"$f":" 0.0000182672053*BE27^2 - 0.165450041*BE27 + 1022.13715+$B$9","v":740.19187469999997},false,1,3500,{"$f":" -0.0000000000067919258*BJ27^4 + 0.0000000945983196*BJ27^3 - 0.000504025587*BJ27^2 + 1.22127801*BJ27-400","v":736.84918173749975},{"$f":" 0.0000182672053*BJ27^2 - 0.165450041*BJ27 + 1022.13715+$B$9","v":716.83527142499997},false,1,4000,{"$f":" -0.0000000000067919258*BO27^4 + 0.0000000945983196*BO27^3 - 0.000504025587*BO27^2 + 1.22127801*BO27-400","v":736.26209759999983},{"$f":" 0.0000182672053*BO27^2 - 0.165450041*BO27 + 1022.13715+$B$9","v":702.61227080000003},false,1,4550,{"$f":" -0.0000000000067919258*BT27^4 + 0.0000000945983196*BT27^3 - 0.000504025587*BT27^2 + 1.22127801*BT27-400","v":722.06872523211496},{"$f":" 0.0000182672053*BT27^2 - 0.165450041*BT27 + 1022.13715+$B$9","v":697.51628117325004},true,1,null,null,null,null,null,null,null,null,null,null,5000,{"$f":"BU27-52.178","v":669.89072523211496},{"$f":" 0.0000182672053*CI27^2 - 0.165450041*CI27 + 1022.13715+$B$9","v":701.5670775000001},false,1,5500,{"$f":"CJ27-135.97","v":533.92072523211493},{"$f":" 0.0000182672053*CN27^2 - 0.165450041*CN27 + 1022.13715+$B$9","v":714.74488482499999},false,1,null,null,null,null,null,6000,{"$f":"CO27-175.718","v":358.20272523211497},{"$f":" 0.0000182672053*CX27^2 - 0.165450041*CX27 + 1022.13715+$B$9","v":737.05629479999993},false,1,6454.1670000000004,0,{"$f":" 0.0000182672053*DC27^2 - 0.165450041*DC27 + 1022.13715+$B$9","v":765.23862174598594},true,1,6454.1670000000004,0,{"$f":" 0.0000182672053*DH27^2 - 0.165450041*DH27 + 1022.13715+$B$9","v":765.23862174598594},true,1,6993.1696523062756,4.4159787648823112E-7,758.46405714748335,true,0]
["Sheer",0,{"$f":" -0.0000000000067919258*B28^4 + 0.0000000945983196*B28^3 - 0.000504025587*B28^2 + 1.22127801*B28","v":0},{"$f":" 0.0000182672053*B28^2 - 0.165450041*B28 + 1022.13715","v":1022.13715},true,2,200,{"$f":" -0.0000000000067919258*G28^4 + 0.0000000945983196*G28^3 - 0.000504025587*G28^2 + 1.22127801*G28","v":224.84049799552002},{"$f":" 0.0000182672053*G28^2 - 0.165450041*G28 + 1022.13715","v":989.77783001199998},false,2,400,{"$f":" -0.0000000000067919258*L28^4 + 0.0000000945983196*L28^3 - 0.000504025587*L28^2 + 1.22127801*L28","v":413.74752923392003},{"$f":" 0.0000182672053*L28^2 - 0.165450041*L28 + 1022.13715","v":958.87988644799998},false,2,600,{"$f":" -0.0000000000067919258*Q28^4 + 0.0000000945983196*Q28^3 - 0.000504025587*Q28^2 + 1.22127801*Q28","v":570.87059812991993},{"$f":" 0.0000182672053*Q28^2 - 0.165450041*Q28 + 1022.13715","v":929.44331930800001},false,2,null,null,null,null,null,800,{"$f":" -0.0000000000067919258*AA28^4 + 0.0000000945983196*AA28^3 - 0.000504025587*AA28^2 + 1.22127801*AA28","v":700.09839914752001},{"$f":" 0.0000182672053*AA28^2 - 0.165450041*AA28 + 1022.13715","v":901.46812859199997},false,2,1000,{"$f":" -0.0000000000067919258*AF28^4 + 0.0000000945983196*AF28^3 - 0.000504025587*AF28^2 + 1.22127801*AF28","v":805.05881680000005},{"$f":" 0.0000182672053*AF28^2 - 0.165450041*AF28 + 1022.13715","v":874.95431430000008},false,2,1500,{"$f":" -0.0000000000067919258*AK28^4 + 0.0000000945983196*AK28^3 - 0.000504025587*AK28^2 + 1.22127801*AK28","v":982.74464853749998},{"$f":" 0.0000182672053*AK28^2 - 0.165450041*AK28 + 1022.13715","v":815.06330042500008},false,2,2000,{"$f":" -0.0000000000067919258*AP28^4 + 0.0000000945983196*AP28^3 - 0.000504025587*AP28^2 + 1.22127801*AP28","v":1074.569416},{"$f":" 0.0000182672053*AP28^2 - 0.165450041*AP28 + 1022.13715","v":764.30588920000002},false,2,2625,{"$f":" -0.0000000000067919258*AU28^4 + 0.0000000945983196*AU28^3 - 0.000504025587*AU28^2 + 1.22127801*AU28","v":1121.4020451774904},{"$f":" 0.0000182672053*AU28^2 - 0.165450041*AU28 + 1022.13715","v":713.70325389531251},false,2,null,null,null,null,null,3000,{"$f":" -0.0000000000067919258*BE28^4 + 0.0000000945983196*BE28^3 - 0.000504025587*BE28^2 + 1.22127801*BE28","v":1131.6123864000001},{"$f":" 0.0000182672053*BE28^2 - 0.165450041*BE28 + 1022.13715","v":690.19187469999997},false,2,3500,{"$f":" -0.0000000000067919258*BJ28^4 + 0.0000000945983196*BJ28^3 - 0.000504025587*BJ28^2 + 1.22127801*BJ28","v":1136.8491817374997},{"$f":" 0.0000182672053*BJ28^2 - 0.165450041*BJ28 + 1022.13715","v":666.83527142499997},false,2,4000,{"$f":" -0.0000000000067919258*BO28^4 + 0.0000000945983196*BO28^3 - 0.000504025587*BO28^2 + 1.22127801*BO28","v":1136.2620975999998},{"$f":" 0.0000182672053*BO28^2 - 0.165450041*BO28 + 1022.13715","v":652.61227080000003},false,2,4550,{"$f":" -0.0000000000067919258*BT28^4 + 0.0000000945983196*BT28^3 - 0.000504025587*BT28^2 + 1.22127801*BT28","v":1122.068725232115},{"$f":" 0.0000182672053*BT28^2 - 0.165450041*BT28 + 1022.13715","v":647.51628117325004},false,2,5000,{"$f":" -0.0000000000067919258*BY28^4 + 0.0000000945983196*BY28^3 - 0.000504025587*BY28^2 + 1.22127801*BY28","v":1085.5866999999998},{"$f":" 0.0000182672053*BY28^2 - 0.165450041*BY28 + 1022.13715","v":651.5670775000001},false,2,6000,{"$f":" -0.0000000000067919258*CD28^4 + 0.0000000945983196*CD28^3 - 0.000504025587*CD28^2 + 1.22127801*CD28","v":813.64812479999819},{"$f":" 0.0000182672053*CD28^2 - 0.165450041*CD28 + 1022.13715","v":687.05629479999993},false,2,6200,{"$f":" -0.0000000000067919258*CI28^4 + 0.0000000945983196*CI28^3 - 0.000504025587*CI28^2 + 1.22127801*CI28","v":706.63064056191888},{"$f":" 0.0000182672053*CI28^2 - 0.165450041*CI28 + 1022.13715","v":698.53826753200008},false,2,6400,{"$f":" -0.0000000000067919258*CN28^4 + 0.0000000945983196*CN28^3 - 0.000504025587*CN28^2 + 1.22127801*CN28","v":574.71249344511853},{"$f":" 0.0000182672053*CN28^2 - 0.165450041*CN28 + 1022.13715","v":711.48161668799992},false,2,null,null,null,null,null,6600,{"$f":" -0.0000000000067919258*CX28^4 + 0.0000000945983196*CX28^3 - 0.000504025587*CX28^2 + 1.22127801*CX28","v":414.21888934272374},{"$f":" 0.0000182672053*CX28^2 - 0.165450041*CX28 + 1022.13715","v":725.88634226799991},false,2,6800,{"$f":" -0.0000000000067919258*DC28^4 + 0.0000000945983196*DC28^3 - 0.000504025587*DC28^2 + 1.22127801*DC28","v":221.21422419712326},{"$f":" 0.0000182672053*DC28^2 - 0.165450041*DC28 + 1022.13715","v":741.75244427200005},false,2,null,null,null,null,null,6993.1696523062756,4.4159787648823112E-7,758.46405714748335,true,0]
["Chine",{"$f":"B28","v":0},0,1022.13715,{"$f":"E28","v":true},4,150.26461315744879,{"$f":" -1.96836918E-12*G29^4 + 0.0000000223263403*G29^3 - 0.00015881897*G29^2 + 0.678982126*G29 - 98.516196","v":-5.07773295268521E-4},{"$f":" 0.0000325080672*G29^2 - 0.237650785*G29 + 321.043886","v":286.0673971323211},true,4,200,{"$f":" -1.96836918E-12*L29^4 + 0.0000000223263403*L29^3 - 0.00015881897*L29^2 + 0.678982126*L29 - 98.516196","v":31.10293173171199},{"$f":" 0.0000325080672*L29^2 - 0.237650785*L29 + 321.043886","v":274.81405168800001},false,4,400,{"$f":" -1.96836918E-12*Q29^4 + 0.0000000223263403*Q29^3 - 0.00015881897*Q29^2 + 0.678982126*Q29 - 98.516196","v":149.04411472819197},{"$f":" 0.0000325080672*Q29^2 - 0.237650785*Q29 + 321.043886","v":231.18486275199999},false,4,600,{"$f":" -1.96836918E-12*V29^4 + 0.0000000223263403*V29^3 - 0.00015881897*V29^2 + 0.678982126*V29 - 98.516196","v":256.26563925907197},{"$f":" 0.0000325080672*V29^2 - 0.237650785*V29 + 321.043886","v":190.15631919199998},false,4,800,{"$f":" -1.96836918E-12*AA29^4 + 0.0000000223263403*AA29^3 - 0.00015881897*AA29^2 + 0.678982126*AA29 - 98.516196","v":353.65020621747198},{"$f":" 0.0000325080672*AA29^2 - 0.237650785*AA29 + 321.043886","v":151.72842100799997},false,4,1000,{"$f":" -1.96836918E-12*AF29^4 + 0.0000000223263403*AF29^3 - 0.00015881897*AF29^2 + 0.678982126*AF29 - 98.516196","v":442.00493111999998},{"$f":" 0.0000325080672*AF29^2 - 0.237650785*AF29 + 321.043886","v":115.90116819999997},false,4,1500,{"$f":" -1.96836918E-12*AK29^4 + 0.0000000223263403*AK29^3 - 0.00015881897*AK29^2 + 0.678982126*AK29 - 98.516196","v":628.00084003874986},{"$f":" 0.0000325080672*AK29^2 - 0.237650785*AK29 + 321.043886","v":37.710859699999958},false,4,2000,{"$f":" -1.96836918E-12*AP29^4 + 0.0000000223263403*AP29^3 - 0.00015881897*AP29^2 + 0.678982126*AP29 - 98.516196","v":771.28899151999985},{"$f":" 0.0000325080672*AP29^2 - 0.237650785*AP29 + 321.043886","v":-24.225415200000043},false,4,2625,{"$f":" -1.96836918E-12*AU29^4 + 0.0000000223263403*AU29^3 - 0.00015881897*AU29^2 + 0.678982126*AU29 - 98.516196","v":899.82674909834464},{"$f":" 0.0000325080672*AU29^2 - 0.237650785*AU29 + 321.043886","v":-78.788524074999998},false,4,null,null,null,null,null,3000,{"$f":" -1.96836918E-12*BE29^4 + 0.0000000223263403*BE29^3 - 0.00015881897*BE29^2 + 0.678982126*BE29 - 98.516196","v":952.43273651999993},{"$f":" 0.0000325080672*BE29^2 - 0.237650785*BE29 + 321.043886","v":-99.335864200000003},false,4,3500,{"$f":" -1.96836918E-12*BJ29^4 + 0.0000000223263403*BJ29^3 - 0.00015881897*BJ29^2 + 0.678982126*BJ29 - 98.516196","v":994.25230278874983},{"$f":" 0.0000325080672*BJ29^2 - 0.237650785*BJ29 + 321.043886","v":-112.51003830000002},false,4,4000,{"$f":" -1.96836918E-12*BO29^4 + 0.0000000223263403*BO29^3 - 0.00015881897*BO29^2 + 0.678982126*BO29 - 98.516196","v":1001.2920571199998},{"$f":" 0.0000325080672*BO29^2 - 0.237650785*BO29 + 321.043886","v":-109.43017880000008},false,4,4550,{"$f":" -1.96836918E-12*BT29^4 + 0.0000000223263403*BT29^3 - 0.00015881897*BT29^2 + 0.678982126*BT29 - 98.516196","v":962.33282570077495},{"$f":" 0.0000325080672*BT29^2 - 0.237650785*BT29 + 321.043886","v":-87.268924542000093},false,4,5000,{"$f":" -1.96836918E-12*BY29^4 + 0.0000000223263403*BY29^3 - 0.00015881897*BY29^2 + 0.678982126*BY29 - 98.516196","v":886.48198400000001},{"$f":" 0.0000325080672*BY29^2 - 0.237650785*BY29 + 321.043886","v":-54.508358999999984},false,4,6000,{"$f":" -1.96836918E-12*CD29^4 + 0.0000000223263403*CD29^3 - 0.00015881897*CD29^2 + 0.678982126*CD29 - 98.516196","v":529.3766875199999},{"$f":" 0.0000325080672*CD29^2 - 0.237650785*CD29 + 321.043886","v":65.429595200000051},false,4,6200,{"$f":" -1.96836918E-12*CI29^4 + 0.0000000223263403*CI29^3 - 0.00015881897*CI29^2 + 0.678982126*CI29 - 98.516196","v":418.6353718459514},{"$f":" 0.0000325080672*CI29^2 - 0.237650785*CI29 + 321.043886","v":97.219122168000069},false,4,6400,{"$f":" -1.96836918E-12*CN29^4 + 0.0000000223263403*CN29^3 - 0.00015881897*CN29^2 + 0.678982126*CN29 - 98.516196","v":292.08506074291023},{"$f":" 0.0000325080672*CN29^2 - 0.237650785*CN29 + 321.043886","v":131.60929451199996},false,4,null,null,null,null,null,6600,{"$f":" -1.96836918E-12*CX29^4 + 0.0000000223263403*CX29^3 - 0.00015881897*CX29^2 + 0.678982126*CX29 - 98.516196","v":148.41647918515133},{"$f":" 0.0000325080672*CX29^2 - 0.237650785*CX29 + 321.043886","v":168.60011223199996},false,4,6783.9217119189834,{"$f":" -1.96836918E-12*DC29^4 + 0.0000000223263403*DC29^3 - 0.00015881897*DC29^2 + 0.678982126*DC29 - 98.516196","v":2.2616363537508732E-7},{"$f":" 0.0000325080672*DC29^2 - 0.237650785*DC29 + 321.043886","v":204.91262947234833},true,4,null,null,null,null,null,6993.1696523062756,4.4159787648823112E-7,758.46405714748335,true,0]
["Sole Top",0,0,1022.13715,true,0,{"$f":"G29","v":150.26461315744879},{"$f":"H29","v":-5.07773295268521E-4},{"$f":"I29","v":286.0673971323211},{"$f":"J29","v":true},5,200,0,{"$f":"I30-168.503","v":117.56439713232112},false,5,400,0,{"$f":"N30-325.831","v":-208.2666028676789},false,5,600,0,{"$f":"S30-159.632","v":-367.8986028676789},false,5,804,{"$f":" -8.20168948E-16*AA30^5 + 0.0000000000135889885*AA30^4 - 0.0000000840631515*AA30^3 + 0.000206462105*AA30^2 - 0.0717799351*AA30 - 37.5476442","v":-8.4806863875016347E-2},{"$f":" -0.0536796537*AA30 - 386.148723","v":-429.30716457480003},true,5,805,{"$f":" -8.20168948E-16*AF30^5 + 0.0000000000135889885*AF30^4 - 0.0000000840631515*AF30^3 + 0.000206462105*AF30^2 - 0.0717799351*AF30 - 37.5476442","v":3.8973305843917672E-2},{"$f":" -0.0536796537*AF30- 309.948723","v":-353.16084422849997},true,5,1500,{"$f":" -8.20168948E-16*AK30^5 + 0.0000000000135889885*AK30^4 - 0.0000000840631515*AK30^3 + 0.000206462105*AK30^2 - 0.0717799351*AK30 - 37.5476442","v":98.175149419874941},{"$f":" -0.0536796537*AK30- 309.948723","v":-390.46820355},false,5,2000,{"$f":" -8.20168948E-16*AP30^5 + 0.0000000000135889885*AP30^4 - 0.0000000840631515*AP30^3 + 0.000206462105*AP30^2 - 0.0717799351*AP30 - 37.5476442","v":163.41410326399989},{"$f":" -0.0536796537*AP30- 309.948723","v":-417.30803040000001},false,5,2625,{"$f":" -8.20168948E-16*AU30^5 + 0.0000000000135889885*AU30^4 - 0.0000000840631515*AU30^3 + 0.000206462105*AU30^2 - 0.0717799351*AU30 - 37.5476442","v":219.14944829861602},{"$f":" -0.0536796537*AU30- 309.948723","v":-450.85781396250002},false,5,null,null,null,null,null,3000,{"$f":" -8.20168948E-16*BE30^5 + 0.0000000000135889885*BE30^4 - 0.0000000840631515*BE30^3 + 0.000206462105*BE30^2 - 0.0717799351*BE30 - 37.5476442","v":236.97341913599965},{"$f":" -0.0536796537*BE30- 309.948723","v":-470.98768410000002},false,5,3500,{"$f":" -8.20168948E-16*BJ30^5 + 0.0000000000135889885*BJ30^4 - 0.0000000840631515*BJ30^3 + 0.000206462105*BJ30^2 - 0.0717799351*BJ30 - 37.5476442","v":244.60522576137478},{"$f":" -0.0536796537*BJ30- 309.948723","v":-497.82751094999998},false,5,4000,{"$f":" -8.20168948E-16*BO30^5 + 0.0000000000135889885*BO30^4 - 0.0000000840631515*BO30^3 + 0.000206462105*BO30^2 - 0.0717799351*BO30 - 37.5476442","v":237.61265264799917},{"$f":" -0.0536796537*BO30- 309.948723","v":-524.66733780000004},false,5,4550,{"$f":" -8.20168948E-16*BT30^5 + 0.0000000000135889885*BT30^4 - 0.0000000840631515*BT30^3 + 0.000206462105*BT30^2 - 0.0717799351*BT30 - 37.5476442","v":216.43162769745706},{"$f":" -0.0536796537*BT30- 309.948723","v":-554.19114733499998},false,5,5000,{"$f":" -8.20168948E-16*BY30^5 + 0.0000000000135889885*BY30^4 - 0.0000000840631515*BY30^3 + 0.000206462105*BY30^2 - 0.0717799351*BY30 - 37.5476442","v":187.30121779999874},{"$f":" -0.0536796537*BY30- 309.948723","v":-578.34699150000006},false,5,6000,{"$f":" -8.20168948E-16*CD30^5 + 0.0000000000135889885*CD30^4 - 0.0000000840631515*CD30^3 + 0.000206462105*CD30^2 - 0.0717799351*CD30 - 37.5476442","v":40.463157551995302},{"$f":" -0.0536796537*CD30- 309.948723","v":-632.02664520000008},false,5,6150,{"$f":" -8.20168948E-16*CI30^5 + 0.0000000000135889885*CI30^4 - 0.0000000840631515*CI30^3 + 0.000206462105*CI30^2 - 0.0717799351*CI30 - 37.5476442","v":3.0538861518472515E-2},{"$f":" -0.0536796537*CI30- 309.948723","v":-640.07859325499999},true,5,6151,{"$f":" -8.20168948E-16*CN30^5 + 0.0000000000135889885*CN30^4 - 0.0000000840631515*CN30^3 + 0.000206462105*CN30^2 - 0.0717799351*CN30 - 37.5476442","v":-0.2631398322426648},{"$f":" -0.0536796537*CN30 - 386.148723","v":-716.33227290870002},true,5,null,null,null,null,null,6434.8019999999997,0,-716.28430667598502,true,5,{"$f":"DC29","v":6783.9217119189834},{"$f":"DD29","v":2.2616363537508732E-7},{"$f":"DE29","v":204.91262947234833},{"$f":"DF29","v":true},0,null,null,null,null,null,6993.1696523062756,4.4159787648823112E-7,758.46405714748335,true,0]
["Sole Bottom",0,0,1022.13715,true,0,null,null,null,null,null,null,null,null,null,null,null,null,null,null,null,null,null,null,null,null,804,{"$f":" -8.20168948E-16*AA31^5 + 0.0000000000135889885*AA31^4 - 0.0000000840631515*AA31^3 + 0.000206462105*AA31^2 - 0.0717799351*AA31 - 37.5476442","v":-8.4806863875016347E-2},{"$f":" -0.0536796537*AA31 - 386.148723","v":-429.30716457480003},true,6,1000,{"$f":" -8.20168948E-16*AF31^5 + 0.0000000000135889885*AF31^4 - 0.0000000840631515*AF31^3 + 0.000206462105*AF31^2 - 0.0717799351*AF31 - 37.5476442","v":25.840193751999969},{"$f":" -0.0536796537*AF31 - 386.148723","v":-439.82837670000004},false,6,1500,{"$f":" -8.20168948E-16*AK31^5 + 0.0000000000135889885*AK31^4 - 0.0000000840631515*AK31^3 + 0.000206462105*AK31^2 - 0.0717799351*AK31 - 37.5476442","v":98.175149419874941},{"$f":" -0.0536796537*AK31 - 386.148723","v":-466.66820355000004},false,6,2000,{"$f":" -8.20168948E-16*AP31^5 + 0.0000000000135889885*AP31^4 - 0.0000000840631515*AP31^3 + 0.000206462105*AP31^2 - 0.0717799351*AP31 - 37.5476442","v":163.41410326399989},{"$f":" -0.0536796537*AP31 - 386.148723","v":-493.50803040000005},false,6,2625,{"$f":" -8.20168948E-16*AU31^5 + 0.0000000000135889885*AU31^4 - 0.0000000840631515*AU31^3 + 0.000206462105*AU31^2 - 0.0717799351*AU31 - 37.5476442","v":219.14944829861602},{"$f":" -0.0536796537*AU31 - 386.148723","v":-527.05781396250006},false,6,null,null,null,null,null,3000,{"$f":" -8.20168948E-16*BE31^5 + 0.0000000000135889885*BE31^4 - 0.0000000840631515*BE31^3 + 0.000206462105*BE31^2 - 0.0717799351*BE31 - 37.5476442","v":236.97341913599965},{"$f":" -0.0536796537*BE31 - 386.148723","v":-547.18768410000007},false,6,3500,{"$f":" -8.20168948E-16*BJ31^5 + 0.0000000000135889885*BJ31^4 - 0.0000000840631515*BJ31^3 + 0.000206462105*BJ31^2 - 0.0717799351*BJ31 - 37.5476442","v":244.60522576137478},{"$f":" -0.0536796537*BJ31 - 386.148723","v":-574.02751095000008},false,6,4000,{"$f":" -8.20168948E-16*BO31^5 + 0.0000000000135889885*BO31^4 - 0.0000000840631515*BO31^3 + 0.000206462105*BO31^2 - 0.0717799351*BO31 - 37.5476442","v":237.61265264799917},{"$f":" -0.0536796537*BO31 - 386.148723","v":-600.86733780000009},false,6,4550,{"$f":" -8.20168948E-16*BT31^5 + 0.0000000000135889885*BT31^4 - 0.0000000840631515*BT31^3 + 0.000206462105*BT31^2 - 0.0717799351*BT31 - 37.5476442","v":216.43162769745706},{"$f":" -0.0536796537*BT31 - 386.148723","v":-630.39114733500003},false,6,5000,{"$f":" -8.20168948E-16*BY31^5 + 0.0000000000135889885*BY31^4 - 0.0000000840631515*BY31^3 + 0.000206462105*BY31^2 - 0.0717799351*BY31 - 37.5476442","v":187.30121779999874},{"$f":" -0.0536796537*BY31 - 386.148723","v":-654.5469915000001},false,6,6000,{"$f":" -8.20168948E-16*CD31^5 + 0.0000000000135889885*CD31^4 - 0.0000000840631515*CD31^3 + 0.000206462105*CD31^2 - 0.0717799351*CD31 - 37.5476442","v":40.463157551995302},{"$f":" -0.0536796537*CD31 - 386.148723","v":-708.22664520000012},false,6,null,null,null,null,null,6151,{"$f":" -8.20168948E-16*CN31^5 + 0.0000000000135889885*CN31^4 - 0.0000000840631515*CN31^3 + 0.000206462105*CN31^2 - 0.0717799351*CN31 - 37.5476442","v":-0.2631398322426648},{"$f":" -0.0536796537*CN31 - 386.148723","v":-716.33227290870002},true,0,null,null,null,null,null,null,null,null,null,null,null,null,null,null,null,null,null,null,null,null,6993.1696523062756,4.4159787648823112E-7,758.46405714748335,true,0]
["Centre Line",0,0,1022.13715,true,0,null,null,null,null,null,null,null,null,null,null,null,null,null,null,null,null,null,null,null,null,804,0,{"$f":"AC31","v":-429.30716457480003},{"$f":"AD31","v":true},7,{"$f":"AF31","v":1000},0,{"$f":"AH31","v":-439.82837670000004},{"$f":"AI31","v":false},7,{"$f":"AK31","v":1500},0,{"$f":"AM31","v":-466.66820355000004},{"$f":"AN31","v":false},7,{"$f":"AP31","v":2000},0,{"$f":"AR31","v":-493.50803040000005},{"$f":"AS31","v":false},7,2625,0,{"$f":"AW31","v":-527.05781396250006},{"$f":"AX31","v":false},7,null,null,null,null,null,{"$f":"BE31","v":3000},0,{"$f":"BG31","v":-547.18768410000007},{"$f":"BH31","v":false},7,{"$f":"BJ31","v":3500},0,{"$f":"BL31","v":-574.02751095000008},{"$f":"BM31","v":false},7,{"$f":"BO31","v":4000},0,{"$f":"BQ31","v":-600.86733780000009},{"$f":"BR31","v":false},7,4550,0,{"$f":"BV31","v":-630.39114733500003},{"$f":"BW31","v":false},7,{"$f":"BY31","v":5000},0,{"$f":"CA31","v":-654.5469915000001},{"$f":"CB31","v":false},7,{"$f":"CD31","v":6000},0,{"$f":"CF31","v":-708.22664520000012},true,7,null,null,null,null,null,6151,0,{"$f":"CP31","v":-716.33227290870002},{"$f":"CQ31","v":true},0,null,null,null,null,null,null,null,null,null,null,null,null,null,null,null,null,null,null,null,null,6993.1696523062756,4.4159787648823112E-7,758.46405714748335,true,0]
[]
["Max Chine Length",{"$f":"MAX(C34:DQ34)","v":897.24460774074248},null,{"$f":"SQRT((C29-C30)^2+(D29-D30)^2)","v":0},null,null,null,null,{"$f":"SQRT((H29-H30)^2+(I29-I30)^2)","v":0},null,null,null,null,{"$f":"SQRT((M29-M30)^2+(N29-N30)^2)","v":160.29612041527355},null,null,null,null,{"$f":"SQRT((R29-R30)^2+(S29-S30)^2)","v":464.0385100079456},null,null,null,null,{"$f":"SQRT((W29-W30)^2+(X29-X30)^2)","v":614.08254648694833},null,null,null,null,{"$f":"SQRT((AB29-AB30)^2+(AC29-AC30)^2)","v":680.24320003452294},null,null,null,null,{"$f":"SQRT((AG29-AG30)^2+(AH29-AH30)^2)","v":644.47892081126952},null,null,null,null,{"$f":"SQRT((AL29-AL30)^2+(AM29-AM30)^2)","v":681.21404319451256},null,null,null,null,{"$f":"SQRT((AQ29-AQ30)^2+(AR29-AR30)^2)","v":723.89627858189442},null,null,null,null,{"$f":"SQRT((AV29-AV30)^2+(AW29-AW30)^2)","v":775.73007180422803},null,null,null,null,{"$f":"SQRT((BA29-BA30)^2+(BB29-BB30)^2)","v":0},null,null,null,null,{"$f":"SQRT((BF29-BF30)^2+(BG29-BG30)^2)","v":806.23018429389117},null,null,null,null,{"$f":"SQRT((BK29-BK30)^2+(BL29-BL30)^2)","v":842.87620373639129},null,null,null,null,{"$f":"SQRT((BP29-BP30)^2+(BQ29-BQ30)^2)","v":869.26873349333152},null,null,null,null,{"$f":"SQRT((BU29-BU30)^2+(BV29-BV30)^2)","v":879.99145411801624},null,null,null,null,{"$f":"SQRT((BZ29-BZ30)^2+(CA29-CA30)^2)","v":873.64790203118491},null,null,null,null,{"$f":"SQRT((CE29-CE30)^2+(CF29-CF30)^2)","v":851.75210422908708},null,null,null,null,{"$f":"SQRT((CJ29-CJ30)^2+(CK29-CK30)^2)","v":847.84310303611005},null,null,null,null,{"$f":"SQRT((CO29-CO30)^2+(CP29-CP30)^2)","v":896.92383853892704},null,null,null,null,{"$f":"SQRT((CT29-CT30)^2+(CU29-CU30)^2)","v":0},null,null,null,null,{"$f":"SQRT((CY29-CY30)^2+(CZ29-CZ30)^2)","v":897.24460774074248},null,null,null,null,{"$f":"SQRT((DD29-DD30)^2+(DE29-DE30)^2)","v":0},null,null,null,null,{"$f":"SQRT((DI29-DI30)^2+(DJ29-DJ30)^2)","v":0},null,null,null,null,{"$f":"SQRT((DN29-DN30)^2+(DO29-DO30)^2)","v":0}]

{"sheet":"Hearts Desire II Basic Calcs","index":4,"n_rows":33,"n_cols":5,"rows_kept":33,"cut":false,"hidden":true,"merged":[[1,1,1,4],[11,1,11,4],[22,1,22,4]]}
[]
[null,"Heart's Desire II Basic Metrics"]
[null,"Length Overall (LOA)",{"$f":"'Hearts Desire II'!L3","v":6.9931696523062756},"m"]
[null,"Beam Overall (BOA)",{"$f":"'Hearts Desire II'!L4","v":2.2736983634749994},"m"]
[null,"Length Water Line (LWL)",{"$f":"'Hearts Desire II'!L5","v":6.1784257298351486},"m"]
[null,"Beam Water Line (BWL)",{"$f":"'Hearts Desire II'!L6","v":2.0296765485193147},"m"]
[null,"Depth Water Line (DWL)",{"$f":"'Hearts Desire II'!L8","v":0.71633227290870005},"m"]
[null,"Amidships Freeboard",{"$f":"'Hearts Desire II'!L9","v":0.66683527142499999},"m"]
[null,"Forward Freeboard",{"$f":"'Hearts Desire II'!L10","v":1.02213715},"m"]
[null,"Rear Freeboard",{"$f":"'Hearts Desire II'!L11","v":0.75846405714748333},"m"]
[]
[null,"Basic Calculations"]
[null,"Mid-Section Area",{"$f":"C6*C7","v":1.4539228152703261},"m^2","Approximate"]
[null,"Water Line Plan Area",{"$f":"C6*C5*2/3","v":8.3601372070764892},"m^2","Approximate"]
[null,"Displacement Volume",{"$f":"C5*C6*C7*2/3","v":5.9886360873736928},"m^3","Approximate"]
[null,"Displacement Weight",{"$f":"C15*1025","v":6138.3519895580348},"kg","Approximate"]
[null,"Prismatic Coefficient (cp)",{"$f":"C15/(C5*C6*C7)","v":0.66666666666666663},null,"Approximate"]
[null,"Displacement Length Ratio (DLR)",{"$f":"C16/(C3/3.048)^3","v":508.24660199148838},null,"Approximate"]
[null,"Hull Speed",{"$f":"1.34*(C5*3.28)^0.5","v":6.0322681031941663},"kt","Approximate"]
[null,"Design G Force",3,"g","Sail boat (>2 g)"]
[null,"Design Pressure",{"$f":"C20*C16*9.81/1000/C14","v":21.608700261495617},"kPa",{"$f":"TEXT(MAX(6.5,13*C7+C5),\"#0.0\")&\"kPa Alternate Design Pressure\"","v":"15.5kPa Alternate Design Pressure"}]
[]
[null,"Skin Design"]
[null,"Design Pressure (P)",{"$f":"C21","v":21.608700261495617},"kPa"]
[null,"Span (L)",400,"mm","Frame Spacing"]
[null,"Allowable Stress (S)",{"$f":"Plywood!$C$14*1000","v":14000},"kPa","F14 Plywood"]
[null,"Plank Thickness (t)",{"$f":"(C24*C25*C25/C26/2)^0.5","v":11.1120784378327},"mm","t^2=P*L^2/2/S, ~fixed sides"]
[null,"Design Plank Thickness (t)",12,"mm"]
[null,"Modulus of Elasticity (E)",{"$f":"Plywood!$C$19*1000","v":11700000},"kPa"]
[null,"Moment of Inertia (I)",{"$f":"1000*C28^3/12","v":144000},"mm^4"]
[null,"Deflection (d)",{"$f":"C24*C25^4/384/C29/C30","v":8.5504511955902265E-4},"mm","d=P*L^4/384EI (2% max)"]
[null,"Deflection Ratio",{"$f":"C25/C31","v":467811.57023186603}]
[null,"Maximum Concentrated Load",{"$f":"C26*C28*C28/1000000","v":2.016},"kN","=S*t*t"]

{"sheet":"Plywood","index":5,"n_rows":21,"n_cols":8,"rows_kept":21,"cut":false,"hidden":false,"merged":[]}
["Plywood Properties"]
["Stress Grade","Bending\nMpa","Tension\nMpa","Panel Shear\nMpa","Compression\nMpa","Bearing\nMpa","E\nMpa","G~E/20\nMpa"]
["F34",100,60,{"$f":"$B3*9%+2.5","v":11.5},75,31,21500,1075]
["F27",80,50,{"$f":"$B4*9%+2.5","v":9.6999999999999993},60,27,18500,925]
["F22",65,40,{"$f":"$B5*9%+2.5","v":8.35},50,23,16000,800]
["F17",50,30,6.8,40,20,14000,700]
["F14",40,25,6.1,30,15,12000,625]
["F11",35,20,5.3,25,12,10500,525]
["F8",25,15,4.7,20,9.6999999999999993,9100,455]
["F7",20,12,4.2,15,7.7,7900,345]
["Selected Grade",40,{"$f":"$B11*60%","v":24},{"$f":"$B11*9%+2.5","v":6.1},{"$f":"$B11*75%","v":30},{"$f":"$B11*37.5%","v":15},{"$f":"170*B11+4900","v":11700},{"$f":"G11/20","v":585}]
[]
["Plywood Strength","US (MPa)","WS (MPa)",null,"Tasmanian Oak","US (MPa)","WS (MPa)"]
["Fbending",{"$f":"B11","v":40},{"$f":"B14*35%","v":14},null,"Fbending",54,{"$f":"F14*65%","v":35.1}]
["Ftension",{"$f":"C11","v":24},{"$f":"B15*46%","v":11.040000000000001}]
["Fshear (~15%*Fb)",{"$f":"D11","v":6.1},{"$f":"B16*34%","v":2.0739999999999998},null,"Fshear (~15%*Fb)",{"$f":"0.15*F14","v":8.1},{"$f":"0.34*F16","v":2.754}]
["Fcompressions",{"$f":"E11","v":30},{"$f":"B17*34%","v":10.200000000000001}]
["Fbearing",{"$f":"F11","v":15},{"$f":"B18*29%","v":4.3499999999999996}]
["E",{"$f":"G11","v":11700},{"$f":"B19","v":11700},null,"E",18500,{"$f":"F19","v":18500}]
["G (~E/20)",{"$f":"H11","v":585},{"$f":"B20","v":585},null,"G (~E/15)",{"$f":"F19/15","v":1233.3333333333333},{"$f":"G19/15","v":1233.3333333333333}]
["Effective Width (=(E/Smax)^0.5)",{"$f":"(B19/B17)^0.5","v":19.748417658131498},{"$f":"60%*B21","v":11.849050594878898}]